BEGIN:VCALENDAR
VERSION:2.0
PRODID:-//Yamhill Soil &amp; Water Conservation District - ECPv6.15.18//NONSGML v1.0//EN
CALSCALE:GREGORIAN
METHOD:PUBLISH
X-WR-CALNAME:Yamhill Soil &amp; Water Conservation District
X-ORIGINAL-URL:https://yamhillswcd.org
X-WR-CALDESC:Events for Yamhill Soil &amp; Water Conservation District
REFRESH-INTERVAL;VALUE=DURATION:PT1H
X-Robots-Tag:noindex
X-PUBLISHED-TTL:PT1H
BEGIN:VTIMEZONE
TZID:America/Los_Angeles
BEGIN:DAYLIGHT
TZOFFSETFROM:-0800
TZOFFSETTO:-0700
TZNAME:PDT
DTSTART:20250309T100000
END:DAYLIGHT
BEGIN:STANDARD
TZOFFSETFROM:-0700
TZOFFSETTO:-0800
TZNAME:PST
DTSTART:20251102T090000
END:STANDARD
BEGIN:DAYLIGHT
TZOFFSETFROM:-0800
TZOFFSETTO:-0700
TZNAME:PDT
DTSTART:20260308T100000
END:DAYLIGHT
BEGIN:STANDARD
TZOFFSETFROM:-0700
TZOFFSETTO:-0800
TZNAME:PST
DTSTART:20261101T090000
END:STANDARD
BEGIN:DAYLIGHT
TZOFFSETFROM:-0800
TZOFFSETTO:-0700
TZNAME:PDT
DTSTART:20270314T100000
END:DAYLIGHT
BEGIN:STANDARD
TZOFFSETFROM:-0700
TZOFFSETTO:-0800
TZNAME:PST
DTSTART:20271107T090000
END:STANDARD
END:VTIMEZONE
BEGIN:VEVENT
DTSTART;TZID=America/Los_Angeles:20260418T090000
DTEND;TZID=America/Los_Angeles:20260418T140000
DTSTAMP:20260418T063841
CREATED:20260324T164352Z
LAST-MODIFIED:20260325T172527Z
UID:16200-1776502800-1776520800@yamhillswcd.org
SUMMARY:Earth Day at Miller Woods
DESCRIPTION:Join us for a FREE family friendly event! \nSaturday\, April 18\, 20269am-2pm\nMiller Woods\n15580 NW Orchard View Rd\nMcminnville\, OR 97128 Schedule of Activities\n9am to 2pm: Native Plant Sale – in the nursery (list of available plants) \n\n9am to 2pm: Local Conservation Organization Booths – outside the nursery \n\n10am: Kids Fun Run – around the lower pond (participants will get a free red columbine or gumweed to take home and plant!) \n\n11am and 1pm: Making Scientific Observations with Outdoor Education Adventures – picnic tables at upper pond \n\n12pm: Ivy Pull & Making Nest Balls – meet in front of nursery \n\n1pm: Nature Journaling – under the iconic Miller Woods oak tree \n\nAnd walking trails are open as always! Bring a picnic lunch and spend the day with us. \nOngoing ActivitiesKids Nature Table with Outdoor Education AdventuresLearn about Gardening with Master GardenersLearn about your Watershed with Greater Yamhill Watershed CouncilLearn About Native Plants with Native Plant Society of OregonNative Plants for Sale with Yamhill SWCD\nLearn about edible plants and community gardens with Edible Landscapes of Yamhill County \nThank you to our amazing partners!
URL:https://yamhillswcd.org/event/earth-day-26/
LOCATION:Miller Woods\, 15580 Orchard View Rd\, McMinnville\, Oregon\, 97128
CATEGORIES:Community Event
ATTACH;FMTTYPE=image/png:https://yamhillswcd.org/wp-content/uploads/2024/04/earth-day-lil.png
ORGANIZER;CN="Yamhill Soil and Water Conservation District":MAILTO:info@yamhillswcd.org
END:VEVENT
END:VCALENDAR