BEGIN:VCALENDAR
VERSION:2.0
PRODID:-//Yamhill Soil &amp; Water Conservation District - ECPv6.15.18//NONSGML v1.0//EN
CALSCALE:GREGORIAN
METHOD:PUBLISH
X-ORIGINAL-URL:https://yamhillswcd.org
X-WR-CALDESC:Events for Yamhill Soil &amp; Water Conservation District
REFRESH-INTERVAL;VALUE=DURATION:PT1H
X-Robots-Tag:noindex
X-PUBLISHED-TTL:PT1H
BEGIN:VTIMEZONE
TZID:UTC
BEGIN:STANDARD
TZOFFSETFROM:+0000
TZOFFSETTO:+0000
TZNAME:UTC
DTSTART:20250101T000000
END:STANDARD
END:VTIMEZONE
BEGIN:VEVENT
DTSTART;TZID=UTC:20260513T073000
DTEND;TZID=UTC:20260513T093000
DTSTAMP:20260418T064114
CREATED:20260409T203250Z
LAST-MODIFIED:20260409T203250Z
UID:15837-1778657400-1778664600@yamhillswcd.org
SUMMARY:District Board Meeting
DESCRIPTION:See Board Meeting Agendas & Minutes\nLocation and Access \nBoard meetings take place in the conference room at the Yamhill County Public Works Office. \n2060 NE Lafayette Ave.\nMcMinnville\, OR 97128 \nThe meeting will be held in-person at Public Works OR via Zoom. \nRemote Participation \nThe district is providing an option for people to listen and participate by conference call. This option complies with Oregon Public Meeting and Records Law requirements\, by allowing the public to hear the discussion and deliberation of district business. \nJoin Phone Conference Call \n\nCall: 1-646-568-7788\n\nThen Meeting ID followed by #: \n\nEnter: 964 7583 2966 #\nEnter: # (When asked for participant ID)\n\nJoin Zoom Video Conferencing \nhttps://zoom.us/j/96475832966 \nMeeting Facilitation \nThe board chair will be facilitating the meeting. The chair will instruct those talking on the phone to identify themselves and follow the district’s normal meeting rules and procedures. \nFor board members or others involved in agenda items\, please present information or motions clearly so district staff can accurately record the appropriate information for the minutes. \nScope of Agenda\nThe board will limit the agenda to essential business items that are needed for operations and to fulfill requirements. The agenda will be focused primarily on topics that need board action. Updates and discussion on projects or district activities that do not require board action will be postponed to a future meeting. \nConservation Partners Reports/Updates\nThe district typically provides an opportunity for conservation partner updates. To save time and limit the need for verbal updates\, the district suggests conservation partners submit written reports to the district. If conservation partners need time for a short verbal update\, the chair requests brevity. Written reports may be emailed to allison@yamhillswcd.org \nPublic Comment\nAs with all board meetings\, there will be opportunity for public comment. Public comment is typically limited to five minutes\, unless the chair provides an extension of time. As a reminder\, public comment may be submitted in writing. This option allows members of the public to provide comments to the extent desired\, without a five-minute limitation. \nSummary\nThank you for considering the use of the conference call for the upcoming District Board Meeting to help the district ensure public safety. If you have questions about the meeting and use of the conference call option\, please contact Allison at least 24 hours in advance of the meeting at 503-583-8551.
URL:https://yamhillswcd.org/event/district-board-meeting-42/
LOCATION:Yamhill County Public Works\, 2060 NE Lafayette Avenue\, McMinnville\, OR\, 97128\, United States
CATEGORIES:Board Meeting
ATTACH;FMTTYPE=image/jpeg:https://yamhillswcd.org/wp-content/uploads/2022/11/business-calculator-meeting.jpg
END:VEVENT
END:VCALENDAR