BEGIN:VCALENDAR
VERSION:2.0
PRODID:-//Yamhill Soil &amp; Water Conservation District - ECPv6.15.18//NONSGML v1.0//EN
CALSCALE:GREGORIAN
METHOD:PUBLISH
X-WR-CALNAME:Yamhill Soil &amp; Water Conservation District
X-ORIGINAL-URL:https://yamhillswcd.org
X-WR-CALDESC:Events for Yamhill Soil &amp; Water Conservation District
REFRESH-INTERVAL;VALUE=DURATION:PT1H
X-Robots-Tag:noindex
X-PUBLISHED-TTL:PT1H
BEGIN:VTIMEZONE
TZID:UTC
BEGIN:STANDARD
TZOFFSETFROM:+0000
TZOFFSETTO:+0000
TZNAME:UTC
DTSTART:20250101T000000
END:STANDARD
END:VTIMEZONE
BEGIN:VTIMEZONE
TZID:America/Los_Angeles
BEGIN:DAYLIGHT
TZOFFSETFROM:-0800
TZOFFSETTO:-0700
TZNAME:PDT
DTSTART:20250309T100000
END:DAYLIGHT
BEGIN:STANDARD
TZOFFSETFROM:-0700
TZOFFSETTO:-0800
TZNAME:PST
DTSTART:20251102T090000
END:STANDARD
BEGIN:DAYLIGHT
TZOFFSETFROM:-0800
TZOFFSETTO:-0700
TZNAME:PDT
DTSTART:20260308T100000
END:DAYLIGHT
BEGIN:STANDARD
TZOFFSETFROM:-0700
TZOFFSETTO:-0800
TZNAME:PST
DTSTART:20261101T090000
END:STANDARD
BEGIN:DAYLIGHT
TZOFFSETFROM:-0800
TZOFFSETTO:-0700
TZNAME:PDT
DTSTART:20270314T100000
END:DAYLIGHT
BEGIN:STANDARD
TZOFFSETFROM:-0700
TZOFFSETTO:-0800
TZNAME:PST
DTSTART:20271107T090000
END:STANDARD
END:VTIMEZONE
BEGIN:VEVENT
DTSTART;TZID=UTC:20260311T073000
DTEND;TZID=UTC:20260311T093000
DTSTAMP:20260418T064108
CREATED:20260205T181852Z
LAST-MODIFIED:20260205T181852Z
UID:15831-1773214200-1773221400@yamhillswcd.org
SUMMARY:District Board Meeting
DESCRIPTION:See Board Meeting Agendas & Minutes\nLocation and Access \nBoard meetings take place in the conference room at the Yamhill County Public Works Office. \n2060 NE Lafayette Ave.\nMcMinnville\, OR 97128 \nThe meeting will be held in-person at Public Works OR via Zoom. \nRemote Participation \nThe district is providing an option for people to listen and participate by conference call. This option complies with Oregon Public Meeting and Records Law requirements\, by allowing the public to hear the discussion and deliberation of district business. \nJoin Phone Conference Call \n\nCall: 1-646-568-7788\n\nThen Meeting ID followed by #: \n\nEnter: 964 7583 2966 #\nEnter: # (When asked for participant ID)\n\nJoin Zoom Video Conferencing \nhttps://zoom.us/j/96475832966 \nMeeting Facilitation \nThe board chair will be facilitating the meeting. The chair will instruct those talking on the phone to identify themselves and follow the district’s normal meeting rules and procedures. \nFor board members or others involved in agenda items\, please present information or motions clearly so district staff can accurately record the appropriate information for the minutes. \nScope of Agenda\nThe board will limit the agenda to essential business items that are needed for operations and to fulfill requirements. The agenda will be focused primarily on topics that need board action. Updates and discussion on projects or district activities that do not require board action will be postponed to a future meeting. \nConservation Partners Reports/Updates\nThe district typically provides an opportunity for conservation partner updates. To save time and limit the need for verbal updates\, the district suggests conservation partners submit written reports to the district. If conservation partners need time for a short verbal update\, the chair requests brevity. Written reports may be emailed to allison@yamhillswcd.org \nPublic Comment\nAs with all board meetings\, there will be opportunity for public comment. Public comment is typically limited to five minutes\, unless the chair provides an extension of time. As a reminder\, public comment may be submitted in writing. This option allows members of the public to provide comments to the extent desired\, without a five-minute limitation. \nSummary\nThank you for considering the use of the conference call for the upcoming District Board Meeting to help the district ensure public safety. If you have questions about the meeting and use of the conference call option\, please contact Allison at least 24 hours in advance of the meeting at 503-472-6403.
URL:https://yamhillswcd.org/event/district-board-meeting-39/
LOCATION:Yamhill County Public Works\, 2060 NE Lafayette Avenue\, McMinnville\, OR\, 97128\, United States
CATEGORIES:Board Meeting
ATTACH;FMTTYPE=image/jpeg:https://yamhillswcd.org/wp-content/uploads/2022/11/business-calculator-meeting.jpg
END:VEVENT
BEGIN:VEVENT
DTSTART;TZID=America/Los_Angeles:20260317T180000
DTEND;TZID=America/Los_Angeles:20260317T190000
DTSTAMP:20260418T064108
CREATED:20260121T170801Z
LAST-MODIFIED:20260218T213450Z
UID:15678-1773770400-1773774000@yamhillswcd.org
SUMMARY:Conservation Book Club
DESCRIPTION:The District has a book club with McMinnville Public Library! This book club will run from October through March.  \nThe next meeting will be on March 17th at 6pm in the Carnegie Room of the McMinnville Public Library. The book of the month is Slime: How Algae Created Us\, Plagued Us\, and Just Might Save Us by Ruth Kassinger. The library system has a few copies\, and always check local bookshops if you’d like to purchase a copy! \nWe encourage all who are interested to attend\, even if you haven’t read the book. If you’d prefer\, you can listen to a podcast about how algae plays a role in biotechnology. Or maybe a shorter podcast about how the author got interested in this topic. If you’re a visual learner\, try a video about algae as a potential crop! \nAnd even if you don’t do any of those things — please attend if you’re interested! We always have great conversations and everyone is an important part of it. \nThis is the last meeting for this spring. We’ll take the summer off and get started again in the fall. We will be choosing our next few books for the fall and winter\, so come with ideas of what you might like to read!
URL:https://yamhillswcd.org/event/conservation-book-club-7/
LOCATION:McMinnville Public Library\, McMinnville\, United States
CATEGORIES:Community Event
ATTACH;FMTTYPE=image/jpeg:https://yamhillswcd.org/wp-content/uploads/2025/10/Conservation-Book-Club.jpg
ORGANIZER;CN="Yamhill Soil and Water Conservation District":MAILTO:info@yamhillswcd.org
END:VEVENT
BEGIN:VEVENT
DTSTART;TZID=America/Los_Angeles:20260319T100000
DTEND;TZID=America/Los_Angeles:20260319T120000
DTSTAMP:20260418T064108
CREATED:20260217T205838Z
LAST-MODIFIED:20260312T215036Z
UID:15954-1773914400-1773921600@yamhillswcd.org
SUMMARY:2026 Local Work Group Meeting
DESCRIPTION:For More Information\, contact: Thomas Hoskins 503-376-7605\nPurpose: NRCS is holding a Local Work Group Meeting to gather input from farmers\, ranchers\, state and federal agencies\, and agriculture and conservation organizations regarding natural resource conservation priorities and opportunities to invest collaboratively in Yamhill County. The USDA is an equal opportunity provider\, employer and lender. A request for accommodations for persons with disabilities should be made 48 hours before the meeting. Please contact\, Thomas Hoskins 503-376-7605 or Thomas.hoskins@usda.gov for arrangements. \nPlease fill out the survey to let us know your environmental concerns. \nMeeting Agenda: \n10:00am – 10:10am – Introductions & Questionnaire\n10:10am – 10:20am – Natural Resource Conservation Service Presentation\n10:20am – 10:30am – Yamhill Soil and Water Conservation District Presentation\n10:30am – 11:55am – Questionnaire-Guided Discussion\n12:00pm – Conclusion \nPlease join us virtually: \nJoin Phone Conference Call \nCall: 1-646-568-7788\nThen Meeting ID followed by #: \nEnter: 964 7583 2966 #\nEnter: # (When asked for participant ID)\nJoin Zoom Video Conferencing \nhttps://zoom.us/j/96475832966 \nQuestions? Call Yamhill SWCD office at (503) 583-8551 or Thomas Hoskins with NRCS at (503) 376-7605
URL:https://yamhillswcd.org/event/2026-local-work-group/
LOCATION:Chehalem Parks and Recreation Office\, 125 S. Elliot Rd.\, Newberg\, OR\, 97132\, United States
CATEGORIES:Community Event
ATTACH;FMTTYPE=image/png:https://yamhillswcd.org/wp-content/uploads/2024/01/meeting-1738949_960_720-113151747.png
END:VEVENT
END:VCALENDAR