BEGIN:VCALENDAR
VERSION:2.0
PRODID:-//Yamhill Soil &amp; Water Conservation District - ECPv6.15.18//NONSGML v1.0//EN
CALSCALE:GREGORIAN
METHOD:PUBLISH
X-ORIGINAL-URL:https://yamhillswcd.org
X-WR-CALDESC:Events for Yamhill Soil &amp; Water Conservation District
REFRESH-INTERVAL;VALUE=DURATION:PT1H
X-Robots-Tag:noindex
X-PUBLISHED-TTL:PT1H
BEGIN:VTIMEZONE
TZID:UTC
BEGIN:STANDARD
TZOFFSETFROM:+0000
TZOFFSETTO:+0000
TZNAME:UTC
DTSTART:20250101T000000
END:STANDARD
END:VTIMEZONE
BEGIN:VEVENT
DTSTART;VALUE=DATE:20260227
DTEND;VALUE=DATE:20260301
DTSTAMP:20260418T065321
CREATED:20251229T203301Z
LAST-MODIFIED:20251229T203350Z
UID:15233-1772150400-1772323199@yamhillswcd.org
SUMMARY:2026 Native Plant Sale
DESCRIPTION:Preorders open January 1!All preorders must be pre-paid. Preorders are due by Monday\, February 17\, 2025 at 5pm. \nIf you need assistance\, we are happy to help! Please contact the district office at 503-472-6403 or orders@yamhillswcd.org \nThe annual spring Native Plant Sale offers a wide variety of native trees\, shrubs\, understory\, and more! \nThe Native Plant Sale is an annual fundraiser for Miller Woods\, a 130-acre forested conservation property owned by the District. \nPickup Dates\, Times\, & Location\nFriday\, February 27th: 9 AM-5:30 PM\nSaturday\, February 28th: 9 AM-3 PM \nYamhill Valley Heritage Center\n11275 SW Durham Ln\, McMinnville\, OR 97128 \nReady for your annual plant fix? We have just what you need! The 2026 Yamhill SWCD Native Plant sale goes live for preorders on January 1\, 2026. In addition to preorders\, shoppers will have a chance to browse a variety of high quality native plants and District merchandise on plant pickup day. \nSign Up to Volunteer at the 2026 Native Plant Sale!
URL:https://yamhillswcd.org/event/2026-native-plant-sale/
LOCATION:Yamhill Valley Heritage Center\, 11275 SW Durham Lane\, McMinnville\, OR\, 97128\, United States
CATEGORIES:Community Event
ATTACH;FMTTYPE=image/jpeg:https://yamhillswcd.org/wp-content/uploads/2022/11/Early-Blue-Violet_viola_adunca_25611204324.jpg
END:VEVENT
END:VCALENDAR